BEGIN:VCALENDAR
VERSION:2.0
PRODID:-//Lauttasaari.fi - ECPv5.16.4.1//NONSGML v1.0//EN
CALSCALE:GREGORIAN
METHOD:PUBLISH
X-WR-CALNAME:Lauttasaari.fi
X-ORIGINAL-URL:https://www.lauttasaari.fi
X-WR-CALDESC:Events for Lauttasaari.fi
BEGIN:VTIMEZONE
TZID:Europe/Helsinki
BEGIN:DAYLIGHT
TZOFFSETFROM:+0200
TZOFFSETTO:+0300
TZNAME:EEST
DTSTART:20220327T010000
END:DAYLIGHT
BEGIN:STANDARD
TZOFFSETFROM:+0300
TZOFFSETTO:+0200
TZNAME:EET
DTSTART:20221030T010000
END:STANDARD
END:VTIMEZONE
BEGIN:VEVENT
DTSTART;TZID=Europe/Helsinki:20221012T180000
DTEND;TZID=Europe/Helsinki:20221012T193000
DTSTAMP:20260424T004421
CREATED:20221011T093349Z
LAST-MODIFIED:20221011T093349Z
UID:12020-1665597600-1665603000@www.lauttasaari.fi
SUMMARY:Asukastilaisuus Länsiväylän osayleiskaavasta
DESCRIPTION:Lauttasaari-Seura järjestää asukastilaisuuden Länsiväylän ympäristön osayleiskaavasta. Paikalla kaupungin suunnittelijoita. Mahdollisuus keskusteluun ja kysymyksiin. Sisäänkäynti koulun pääovelta.
URL:https://www.lauttasaari.fi/tapahtuma/asukastilaisuus-lansivaylan-osayleiskaavasta/
LOCATION:Lauttasaaren yhteiskoulu\, Isokaari 19\, Helsinki\, Suomi
END:VEVENT
END:VCALENDAR