BEGIN:VCALENDAR
VERSION:2.0
PRODID:-//Lauttasaari.fi - ECPv5.16.4.1//NONSGML v1.0//EN
CALSCALE:GREGORIAN
METHOD:PUBLISH
X-WR-CALNAME:Lauttasaari.fi
X-ORIGINAL-URL:https://www.lauttasaari.fi
X-WR-CALDESC:Events for Lauttasaari.fi
BEGIN:VTIMEZONE
TZID:Europe/Helsinki
BEGIN:DAYLIGHT
TZOFFSETFROM:+0200
TZOFFSETTO:+0300
TZNAME:EEST
DTSTART:20190331T010000
END:DAYLIGHT
BEGIN:STANDARD
TZOFFSETFROM:+0300
TZOFFSETTO:+0200
TZNAME:EET
DTSTART:20191027T010000
END:STANDARD
END:VTIMEZONE
BEGIN:VEVENT
DTSTART;TZID=Europe/Helsinki:20191216T180000
DTEND;TZID=Europe/Helsinki:20191216T180000
DTSTAMP:20260418T171610
CREATED:20191209T115100Z
LAST-MODIFIED:20191209T115100Z
UID:5129-1576519200-1576519200@www.lauttasaari.fi
SUMMARY:Elävä joulukalenteri - Luukku 16: De vackraste julsångerna
DESCRIPTION:Luukku 16 \nDe vackraste julsångerna och glögg kl 18\, St Jakobs Kyrka\, Myllykallionrinne 1 \n————- \nNyt on aika virittäytyä joulumielelle! Lauttasaari-Seura järjestää yhdessä saarelaisten toimijoiden kanssa Elävän joulukalenterin. Jokaiselle joulukuun 24. päivälle on luvassa eri toimijan järjestämää tekemistä. Kaikki tapahtumat ovat ilmaisia ja kaikille avoimia.\nElävän joulukalenterin luukut paljastetaan reilu viikko kerrallaan Lauttasaari-lehdessä\, lauttasaari.fi-sivuilla sekä tässä tapahtumassa. Lähde mukaan viettämään joulua yhdessä koko saaren kanssa!
URL:https://www.lauttasaari.fi/tapahtuma/elava-joulukalenteri-luukku-16-de-vackraste-julsangerna/
ATTACH;FMTTYPE=image/jpeg:https://www.lauttasaari.fi/content/uploads/2019/11/christmas-3009949_1920.jpg
END:VEVENT
END:VCALENDAR