BEGIN:VCALENDAR
VERSION:2.0
PRODID:-//Lauttasaari.fi - ECPv5.16.4.1//NONSGML v1.0//EN
CALSCALE:GREGORIAN
METHOD:PUBLISH
X-WR-CALNAME:Lauttasaari.fi
X-ORIGINAL-URL:https://www.lauttasaari.fi
X-WR-CALDESC:Events for Lauttasaari.fi
BEGIN:VTIMEZONE
TZID:Europe/Helsinki
BEGIN:DAYLIGHT
TZOFFSETFROM:+0200
TZOFFSETTO:+0300
TZNAME:EEST
DTSTART:20220327T010000
END:DAYLIGHT
BEGIN:STANDARD
TZOFFSETFROM:+0300
TZOFFSETTO:+0200
TZNAME:EET
DTSTART:20221030T010000
END:STANDARD
END:VTIMEZONE
BEGIN:VEVENT
DTSTART;TZID=Europe/Helsinki:20220510T200000
DTEND;TZID=Europe/Helsinki:20220510T210000
DTSTAMP:20260417T064311
CREATED:20220505T111756Z
LAST-MODIFIED:20220505T111756Z
UID:11378-1652212800-1652216400@www.lauttasaari.fi
SUMMARY:Iloista jumppaa kaiken ikäisille naisille
DESCRIPTION:Tiistaina 10.5. vietetään valtakunnallista Unelmien Liikuntapäivää. Sen kunniaksi Lauttasaaren Kisa-Siskot ry järjestää kaiken ikäisille naisille 10.5. klo 20-21 Vattuniemen ala-asteen koulun liikuntasalissa maksuttoman iloisen kuntojumppan. Tervetuloa liikkumaan! \nTiedustelut: Helena puh. 040 5540709.
URL:https://www.lauttasaari.fi/tapahtuma/iloista-jumppaa-kaiken-ikaisille-naisille/
ATTACH;FMTTYPE=image/jpeg:https://www.lauttasaari.fi/content/uploads/2022/05/Jumppa.jpg
END:VEVENT
END:VCALENDAR