BEGIN:VCALENDAR
VERSION:2.0
PRODID:-//Lauttasaari.fi - ECPv5.16.4.1//NONSGML v1.0//EN
CALSCALE:GREGORIAN
METHOD:PUBLISH
X-WR-CALNAME:Lauttasaari.fi
X-ORIGINAL-URL:https://www.lauttasaari.fi
X-WR-CALDESC:Events for Lauttasaari.fi
BEGIN:VTIMEZONE
TZID:Europe/Helsinki
BEGIN:DAYLIGHT
TZOFFSETFROM:+0200
TZOFFSETTO:+0300
TZNAME:EEST
DTSTART:20220327T010000
END:DAYLIGHT
BEGIN:STANDARD
TZOFFSETFROM:+0300
TZOFFSETTO:+0200
TZNAME:EET
DTSTART:20221030T010000
END:STANDARD
END:VTIMEZONE
BEGIN:VEVENT
DTSTART;TZID=Europe/Helsinki:20221013T180000
DTEND;TZID=Europe/Helsinki:20221013T180000
DTSTAMP:20260424T004834
CREATED:20220929T163015Z
LAST-MODIFIED:20220929T163015Z
UID:11953-1665684000-1665684000@www.lauttasaari.fi
SUMMARY:Kaukokatseinen Mannerheim -dokumenttielokuva
DESCRIPTION:Tuoreen Kaukokatseinen Mannerheim -dokumenttielokuvan ensimmäinen ilmaisnäytös varattiin nopeasti loppuun. Elokuva kertoo Mannerheimin kyvystä ennakoida venäläisten liikkeitä sotiemme aikana. Suuren kysynnän vuoksi elokuvasta järjestetään uusi maksuton näytös seurakuntasalissa 13.10. kello 18. Näytökseen osallistuminen edellyttää ilmoittautumista. Dokumenttielokuvan ovat käsikirjoittaneet Nina Schleifer ja Jyrki Uutela. Tilaisuuden järjestävät Lauttasaari-Seuran historiatyöryhmä ja Lauttasaaren seurakunnan diakoniatyö.
URL:https://www.lauttasaari.fi/tapahtuma/kaukokatseinen-mannerheim-dokumenttielokuva/
LOCATION:Lauttasaaren seurakunta\, Heikkiläntie 7
END:VEVENT
END:VCALENDAR