BEGIN:VCALENDAR
VERSION:2.0
PRODID:-//Lauttasaari.fi - ECPv5.16.4.1//NONSGML v1.0//EN
CALSCALE:GREGORIAN
METHOD:PUBLISH
X-WR-CALNAME:Lauttasaari.fi
X-ORIGINAL-URL:https://www.lauttasaari.fi
X-WR-CALDESC:Events for Lauttasaari.fi
BEGIN:VTIMEZONE
TZID:Europe/Helsinki
BEGIN:DAYLIGHT
TZOFFSETFROM:+0200
TZOFFSETTO:+0300
TZNAME:EEST
DTSTART:20220327T010000
END:DAYLIGHT
BEGIN:STANDARD
TZOFFSETFROM:+0300
TZOFFSETTO:+0200
TZNAME:EET
DTSTART:20221030T010000
END:STANDARD
END:VTIMEZONE
BEGIN:VEVENT
DTSTART;TZID=Europe/Helsinki:20220507T120000
DTEND;TZID=Europe/Helsinki:20220507T150000
DTSTAMP:20260417T155226
CREATED:20220426T093629Z
LAST-MODIFIED:20220426T103111Z
UID:11326-1651924800-1651935600@www.lauttasaari.fi
SUMMARY:Kierrätysrieha Lauttiksen torilla
DESCRIPTION:Reduce\, reuse\, recycle! Lauttasaari-Seuran Hiilineutraali Lauttasaari 2030 -hanke järjestää iloisen kierrätystapahtuman 7.5. klo 12-15! \nTapahtumasta löydät:\n– HSY:n pop up-poistotekstiilinkeräysrullakon ja HSY:n asiantuntijat vastaanottamassa saarelaisten poistotekstiiliä tapahtuman ajan\n– Syken asiantuntijat kertomassa kierrätyksen ympäristöhyödyistä\n– Lauttasaaren Emmaus kertomassa toiminnastaan\n– Kierrätyskeskuksen lahjoitusrullakot pientavaralle ja käyttökuntoiselle vaatteelle ja asiantuntijat opastamassa\, mistä tunnistaa laadukkaan vaatteen.\n– Lauttasaari-Seuran ja Hiilineutraali Lauttasaari 2030 -hankkeen projektiryhmäläisiä kertomassa toiminnastaan
URL:https://www.lauttasaari.fi/tapahtuma/kierratysrieha-lauttiksen-torilla/
LOCATION:Lauttis\, Lauttasaarentie 28
ATTACH;FMTTYPE=image/png:https://www.lauttasaari.fi/content/uploads/2022/04/Blue-Red-and-Green-Vibrant-Colorful-Recycle-Earth-Day-Illustrated-Zoom-Virtual-Background-3.png
END:VEVENT
END:VCALENDAR