BEGIN:VCALENDAR
VERSION:2.0
PRODID:-//Lauttasaari.fi - ECPv5.16.4.1//NONSGML v1.0//EN
CALSCALE:GREGORIAN
METHOD:PUBLISH
X-WR-CALNAME:Lauttasaari.fi
X-ORIGINAL-URL:https://www.lauttasaari.fi
X-WR-CALDESC:Events for Lauttasaari.fi
BEGIN:VTIMEZONE
TZID:Europe/Helsinki
BEGIN:DAYLIGHT
TZOFFSETFROM:+0200
TZOFFSETTO:+0300
TZNAME:EEST
DTSTART:20230326T010000
END:DAYLIGHT
BEGIN:STANDARD
TZOFFSETFROM:+0300
TZOFFSETTO:+0200
TZNAME:EET
DTSTART:20231029T010000
END:STANDARD
END:VTIMEZONE
BEGIN:VEVENT
DTSTART;TZID=Europe/Helsinki:20230130T170000
DTEND;TZID=Europe/Helsinki:20230130T170000
DTSTAMP:20260423T185736
CREATED:20230125T082649Z
LAST-MODIFIED:20230125T104858Z
UID:12446-1675098000-1675098000@www.lauttasaari.fi
SUMMARY:Kierros Lauttasaaren kartanoon
DESCRIPTION:Lauttasaari-Seuran historiatyöryhmä järjestää suosittuja opastuskierroksia Lauttasaaren kartanoon (Otavantie 10).  Ilmoittautuminen maanantain 30.1. kierrokselle aukeaa 25.1. kello 18.  \nPaikkoja on 20 per kierros. Puhelimitse ei voi ilmoittautua.
URL:https://www.lauttasaari.fi/tapahtuma/kierros-lauttasaaren-kartanoon-15/
END:VEVENT
END:VCALENDAR