BEGIN:VCALENDAR
VERSION:2.0
PRODID:-//Lauttasaari.fi - ECPv5.16.4.1//NONSGML v1.0//EN
CALSCALE:GREGORIAN
METHOD:PUBLISH
X-WR-CALNAME:Lauttasaari.fi
X-ORIGINAL-URL:https://www.lauttasaari.fi
X-WR-CALDESC:Events for Lauttasaari.fi
BEGIN:VTIMEZONE
TZID:Europe/Helsinki
BEGIN:DAYLIGHT
TZOFFSETFROM:+0200
TZOFFSETTO:+0300
TZNAME:EEST
DTSTART:20230326T010000
END:DAYLIGHT
BEGIN:STANDARD
TZOFFSETFROM:+0300
TZOFFSETTO:+0200
TZNAME:EET
DTSTART:20231029T010000
END:STANDARD
END:VTIMEZONE
BEGIN:VEVENT
DTSTART;TZID=Europe/Helsinki:20230902T110000
DTEND;TZID=Europe/Helsinki:20230903T170000
DTSTAMP:20260422T094530
CREATED:20230828T175258Z
LAST-MODIFIED:20230902T043023Z
UID:13680-1693652400-1693760400@www.lauttasaari.fi
SUMMARY:KONSTRUNDAN – AVOIMET ATELJEET
DESCRIPTION:KONSTRUNDAN\nKonstrundan järjestetään tänä vuonna 16. kerran Suomessa. 350 taiteilijaa\, käsityöläistä ja muotoilijaa avaa työtilojensa ovia yleisölle. Heistä 10 taiteilijaa työskentelee Lauttasaaressa. \nKatso pääkaupunkiseudun kaikki ateljeet. \nKartta pääkaupunkiseudun avoimista ateljee-tiloista. \nTapahtumaan voi tutustua lisää www.konstrundan.fi\, facebookissa ja instagramissa.
URL:https://www.lauttasaari.fi/tapahtuma/konstrundan/
LOCATION:Isokaari 15 A\, Keramiikkastudio\, Isokaari 15 A\, Helsinki\, 00200
ATTACH;FMTTYPE=image/jpeg:https://www.lauttasaari.fi/content/uploads/2023/08/Timo-Maenttaeri_konstrundan2023-4.jpg
END:VEVENT
END:VCALENDAR