BEGIN:VCALENDAR
VERSION:2.0
PRODID:-//Lauttasaari.fi - ECPv5.16.4.1//NONSGML v1.0//EN
CALSCALE:GREGORIAN
METHOD:PUBLISH
X-WR-CALNAME:Lauttasaari.fi
X-ORIGINAL-URL:https://www.lauttasaari.fi
X-WR-CALDESC:Events for Lauttasaari.fi
BEGIN:VTIMEZONE
TZID:Europe/Helsinki
BEGIN:DAYLIGHT
TZOFFSETFROM:+0200
TZOFFSETTO:+0300
TZNAME:EEST
DTSTART:20220327T010000
END:DAYLIGHT
BEGIN:STANDARD
TZOFFSETFROM:+0300
TZOFFSETTO:+0200
TZNAME:EET
DTSTART:20221030T010000
END:STANDARD
END:VTIMEZONE
BEGIN:VEVENT
DTSTART;TZID=Europe/Helsinki:20220417T100000
DTEND;TZID=Europe/Helsinki:20220417T100000
DTSTAMP:20260424T163501
CREATED:20220405T084607Z
LAST-MODIFIED:20220405T084618Z
UID:11246-1650189600-1650189600@www.lauttasaari.fi
SUMMARY:Lauttasaaren kirkon avajaiset
DESCRIPTION:Lauttasaaren kirkko avaa ovensa 1.4. Avajaisia juhlitaan isolla avajaismessulla su 17.4. klo 10\, jonka Yle esittää suorana. Paikalle tulevat sekä suomen- että ruotsinkieliset piispat.\n”Toivon\, että lauttasaarelaiset tulisivat sankoin joukoin paikalle. Olisi hienoa näyttää valtakunnallisessa lähetyksessä täysinäinen kirkko”\, kirkkoherra Juha Rintamäki sanoo.\nAvajaisiltana kirkossa konsertoivat Helsinki Gospel sekä kanteletaiteilija Ida Elina. Siitä käynnistyy kaksi viikkoa kestävä avoimien ovien aika\, joka sisältää sekä päivittäin opastettuja kiertokäyntejä että korkealaatuisia konsertteja. Esiintymään saapuu muun muassa lauluyhtye Rajaton. Seuraa tulevia ohjelmia Lauttasaari-lehdestä.
URL:https://www.lauttasaari.fi/tapahtuma/lauttasaaren-kirkon-avajaiset/
END:VEVENT
END:VCALENDAR