BEGIN:VCALENDAR
VERSION:2.0
PRODID:-//Lauttasaari.fi - ECPv5.16.4.1//NONSGML v1.0//EN
CALSCALE:GREGORIAN
METHOD:PUBLISH
X-WR-CALNAME:Lauttasaari.fi
X-ORIGINAL-URL:https://www.lauttasaari.fi
X-WR-CALDESC:Events for Lauttasaari.fi
BEGIN:VTIMEZONE
TZID:Europe/Helsinki
BEGIN:DAYLIGHT
TZOFFSETFROM:+0200
TZOFFSETTO:+0300
TZNAME:EEST
DTSTART:20220327T010000
END:DAYLIGHT
BEGIN:STANDARD
TZOFFSETFROM:+0300
TZOFFSETTO:+0200
TZNAME:EET
DTSTART:20221030T010000
END:STANDARD
END:VTIMEZONE
BEGIN:VEVENT
DTSTART;TZID=Europe/Helsinki:20220423T110000
DTEND;TZID=Europe/Helsinki:20220423T110000
DTSTAMP:20260424T102356
CREATED:20220414T130405Z
LAST-MODIFIED:20220414T130405Z
UID:11304-1650711600-1650711600@www.lauttasaari.fi
SUMMARY:Lauttasaaren musiikkiopiston avajaisviikon konserttisarja
DESCRIPTION:Lauttasaaren musiikkiopiston avajaisviikon konsertteja: \nLa 23.4. klo 11 pianoesitys Kirkkokahvilassa ja klo 11.30 musiikkiopiston aulassa. \nTi 26.4. klo 18.30 nokkahuilistien konsertti Lauttasaaren kirkossa. \nPe 29.4. klo 18 sellistien konsertti Lauttasaaren kirkossa. \nLa 30.4. klo 12 GWB-puhallinorkesterin konsertti Lauttasaaren kirkossa. Esillä myös kaikki puhaltimet.
URL:https://www.lauttasaari.fi/tapahtuma/lauttasaaren-musiikkiopiston-avajaisviikon-konserttisarja/
END:VEVENT
END:VCALENDAR