BEGIN:VCALENDAR
VERSION:2.0
PRODID:-//Lauttasaari.fi - ECPv5.16.4.1//NONSGML v1.0//EN
CALSCALE:GREGORIAN
METHOD:PUBLISH
X-WR-CALNAME:Lauttasaari.fi
X-ORIGINAL-URL:https://www.lauttasaari.fi
X-WR-CALDESC:Events for Lauttasaari.fi
BEGIN:VTIMEZONE
TZID:Europe/Helsinki
BEGIN:DAYLIGHT
TZOFFSETFROM:+0200
TZOFFSETTO:+0300
TZNAME:EEST
DTSTART:20230326T010000
END:DAYLIGHT
BEGIN:STANDARD
TZOFFSETFROM:+0300
TZOFFSETTO:+0200
TZNAME:EET
DTSTART:20231029T010000
END:STANDARD
END:VTIMEZONE
BEGIN:VEVENT
DTSTART;TZID=Europe/Helsinki:20231213T180000
DTEND;TZID=Europe/Helsinki:20231213T190000
DTSTAMP:20260420T214451
CREATED:20231203T115529Z
LAST-MODIFIED:20231203T115529Z
UID:14112-1702490400-1702494000@www.lauttasaari.fi
SUMMARY:Lauttasaaren musiikkiopiston joulukonsertti
DESCRIPTION:Tervetuloa Lauttasaaren musiikkiopiston syyskauden huipennukseen!\nLuvassa ihanaa jouluteemaista musiikkia opiston oppilaiden esittämänä. ✨\nKonserttipaikkana on St. Jacobs kyrka osoitteessa Myllykallionrinne 1.\nVapaa pääsy!
URL:https://www.lauttasaari.fi/tapahtuma/lauttasaaren-musiikkiopiston-joulukonsertti/
LOCATION:St. Jacobs kyrka\, Myllykallionrinne 1\, Helsinki\, 00200
ATTACH;FMTTYPE=image/png:https://www.lauttasaari.fi/content/uploads/2023/11/Joulukonsertti-13.12.-3-1.png
END:VEVENT
END:VCALENDAR