BEGIN:VCALENDAR
VERSION:2.0
PRODID:-//Lauttasaari.fi - ECPv5.16.4.1//NONSGML v1.0//EN
CALSCALE:GREGORIAN
METHOD:PUBLISH
X-WR-CALNAME:Lauttasaari.fi
X-ORIGINAL-URL:https://www.lauttasaari.fi
X-WR-CALDESC:Events for Lauttasaari.fi
BEGIN:VTIMEZONE
TZID:Europe/Helsinki
BEGIN:DAYLIGHT
TZOFFSETFROM:+0200
TZOFFSETTO:+0300
TZNAME:EEST
DTSTART:20230326T010000
END:DAYLIGHT
BEGIN:STANDARD
TZOFFSETFROM:+0300
TZOFFSETTO:+0200
TZNAME:EET
DTSTART:20231029T010000
END:STANDARD
END:VTIMEZONE
BEGIN:VEVENT
DTSTART;TZID=Europe/Helsinki:20230427T170000
DTEND;TZID=Europe/Helsinki:20230427T170000
DTSTAMP:20260422T171211
CREATED:20230424T183221Z
LAST-MODIFIED:20230424T183221Z
UID:13022-1682614800-1682614800@www.lauttasaari.fi
SUMMARY:Lauttasaari ja Seurasaaren selkä uhattuna – puolueet Lauttiksessa
DESCRIPTION:Kaupunkiympäristölautakunta päättää toukokuun aikana Länsiväylän osayleiskaavan suunnitteluperiaatteista\, jotka tyrmistyttävät lauttasaarelaisia ja meriluonnon ystäviä. Lauttasaari-Seura on kutsunut kaikki valtuustopuolueet kertomaan kantansa kaupungin kaavailuihin\, jotka uhkaavat tulevaisuuden Lauttasaarta ja Itämerta. \nTilaisuus Lauttiksen ylätasolla torstaina 27.4. kello 17.
URL:https://www.lauttasaari.fi/tapahtuma/lauttasaari-ja-seurasaaren-selka-uhattuna-puolueet-lauttiksessa/
LOCATION:Lauttis\, Lauttasaarentie 28
END:VEVENT
END:VCALENDAR