BEGIN:VCALENDAR
VERSION:2.0
PRODID:-//Lauttasaari.fi - ECPv5.16.4.1//NONSGML v1.0//EN
CALSCALE:GREGORIAN
METHOD:PUBLISH
X-WR-CALNAME:Lauttasaari.fi
X-ORIGINAL-URL:https://www.lauttasaari.fi
X-WR-CALDESC:Events for Lauttasaari.fi
BEGIN:VTIMEZONE
TZID:Europe/Helsinki
BEGIN:DAYLIGHT
TZOFFSETFROM:+0200
TZOFFSETTO:+0300
TZNAME:EEST
DTSTART:20220327T010000
END:DAYLIGHT
BEGIN:STANDARD
TZOFFSETFROM:+0300
TZOFFSETTO:+0200
TZNAME:EET
DTSTART:20221030T010000
END:STANDARD
END:VTIMEZONE
BEGIN:VEVENT
DTSTART;TZID=Europe/Helsinki:20220418T100000
DTEND;TZID=Europe/Helsinki:20220418T100000
DTSTAMP:20260424T145423
CREATED:20220405T084118Z
LAST-MODIFIED:20220405T084118Z
UID:11240-1650276000-1650276000@www.lauttasaari.fi
SUMMARY:Nyinvigning av S:t Jacobs kyrka
DESCRIPTION:Drumsö kyrkvärdar laddar upp inför festmässan på annandag påsk\, söndagen den 18 april kl 10 med nyinvigning av S:t Jacobs kyrka. Biskop Bo-Göran Åstrand predikar på högmässan. Sanct Jacobs kyrkokör och barnkören medverkar. Mässan inleds med procession och psalm 536 Världen som nu föds på nytt. Alla är välkomna till festmässan.
URL:https://www.lauttasaari.fi/tapahtuma/nyinvigning-av-st-jacobs-kyrka/
END:VEVENT
END:VCALENDAR