BEGIN:VCALENDAR
VERSION:2.0
PRODID:-//Lauttasaari.fi - ECPv5.16.4.1//NONSGML v1.0//EN
CALSCALE:GREGORIAN
METHOD:PUBLISH
X-WR-CALNAME:Lauttasaari.fi
X-ORIGINAL-URL:https://www.lauttasaari.fi
X-WR-CALDESC:Events for Lauttasaari.fi
BEGIN:VTIMEZONE
TZID:Europe/Helsinki
BEGIN:DAYLIGHT
TZOFFSETFROM:+0200
TZOFFSETTO:+0300
TZNAME:EEST
DTSTART:20220327T010000
END:DAYLIGHT
BEGIN:STANDARD
TZOFFSETFROM:+0300
TZOFFSETTO:+0200
TZNAME:EET
DTSTART:20221030T010000
END:STANDARD
END:VTIMEZONE
BEGIN:VEVENT
DTSTART;VALUE=DATE:20220408
DTEND;VALUE=DATE:20220423
DTSTAMP:20260424T200424
CREATED:20220408T131952Z
LAST-MODIFIED:20220408T131952Z
UID:11275-1649376000-1650671999@www.lauttasaari.fi
SUMMARY:Pupujen maantiedontunti
DESCRIPTION:Pääsiäisinstallaatio näyteikkunassa Isokaari 6
URL:https://www.lauttasaari.fi/tapahtuma/pupujen-maantiedontunti/
LOCATION:STUDIO LARUS MINUTUS\, ISOKAARI 6 NÄYTEIKKUNA\, HELSINKI\, 00210
ATTACH;FMTTYPE=image/jpeg:https://www.lauttasaari.fi/content/uploads/2022/04/595A40FA-6B65-4C3A-B62B-052E8B10B6C9-scaled.jpeg
ORGANIZER;CN="Outi%20Sarjakoski":MAILTO:outi.sarjakoski@gmail.com
END:VEVENT
END:VCALENDAR