BEGIN:VCALENDAR
VERSION:2.0
PRODID:-//Lauttasaari.fi - ECPv5.16.4.1//NONSGML v1.0//EN
CALSCALE:GREGORIAN
METHOD:PUBLISH
X-WR-CALNAME:Lauttasaari.fi
X-ORIGINAL-URL:https://www.lauttasaari.fi
X-WR-CALDESC:Events for Lauttasaari.fi
BEGIN:VTIMEZONE
TZID:Europe/Helsinki
BEGIN:DAYLIGHT
TZOFFSETFROM:+0200
TZOFFSETTO:+0300
TZNAME:EEST
DTSTART:20220327T010000
END:DAYLIGHT
BEGIN:STANDARD
TZOFFSETFROM:+0300
TZOFFSETTO:+0200
TZNAME:EET
DTSTART:20221030T010000
END:STANDARD
END:VTIMEZONE
BEGIN:VEVENT
DTSTART;TZID=Europe/Helsinki:20220517T170000
DTEND;TZID=Europe/Helsinki:20220517T193000
DTSTAMP:20260420T115512
CREATED:20220426T093657Z
LAST-MODIFIED:20220426T093657Z
UID:11324-1652806800-1652815800@www.lauttasaari.fi
SUMMARY:Sannan Musiikkikoulun kevätkonsertit
DESCRIPTION:Lämpimästi tervetuloa Sannan Musiikkikoulun kevätkonsertteihin Lauttasaaren kirkkoon! \nKlo 17 Maria Kämpin ja Hilkka Louhivuoren oppilaat esiintyvät\nKlo 18.30 Sanna Rintalan oppilaat esiintyvät
URL:https://www.lauttasaari.fi/tapahtuma/sannan-musiikkikoulun-kevatkonsertit/
LOCATION:Lauttasaaren seurakunta\, Heikkiläntie 7
ORGANIZER;CN="Sannan%20Musiikkikoulu":MAILTO:sanna@sannanmusiikkikoulu.fi
END:VEVENT
END:VCALENDAR