BEGIN:VCALENDAR
VERSION:2.0
PRODID:-//Lauttasaari.fi - ECPv5.16.4.1//NONSGML v1.0//EN
CALSCALE:GREGORIAN
METHOD:PUBLISH
X-WR-CALNAME:Lauttasaari.fi
X-ORIGINAL-URL:https://www.lauttasaari.fi
X-WR-CALDESC:Events for Lauttasaari.fi
BEGIN:VTIMEZONE
TZID:Europe/Helsinki
BEGIN:DAYLIGHT
TZOFFSETFROM:+0200
TZOFFSETTO:+0300
TZNAME:EEST
DTSTART:20240331T010000
END:DAYLIGHT
BEGIN:STANDARD
TZOFFSETFROM:+0300
TZOFFSETTO:+0200
TZNAME:EET
DTSTART:20241027T010000
END:STANDARD
END:VTIMEZONE
BEGIN:VEVENT
DTSTART;TZID=Europe/Helsinki:20240406T100000
DTEND;TZID=Europe/Helsinki:20240406T120000
DTSTAMP:20260420T213826
CREATED:20240131T073058Z
LAST-MODIFIED:20240131T073058Z
UID:14268-1712397600-1712404800@www.lauttasaari.fi
SUMMARY:Soitinkarnevaali ja Lauttasaaren musiikkiopiston avoimet ovet
DESCRIPTION:Tule tutustumaan Lauttasaaren musiikkiopistoon lauantaina 6.4.2024 klo 10-12! 🎉\nSoitinkarnevaalissa pääset kokeilemaan eri soittimia\, kuulemaan hauskoja esityksiä ja tapaamaan musiikkiopiston opettajia ja rehtoria. 🎶\nMusiikkiopiston ovet ovat auki kaikille klo 10-12. Tervetuloa mukaan! 🎺🎹🎻🥳\nOsoite: Myllykallionrinne 1 E 00200 Helsinki
URL:https://www.lauttasaari.fi/tapahtuma/soitinkarnevaali-ja-lauttasaaren-musiikkiopiston-avoimet-ovet/
LOCATION:Lauttasaaren musiikkiopisto\, Myllykallionrinne 1\, Helsinki\, 00200
ATTACH;FMTTYPE=image/png:https://www.lauttasaari.fi/content/uploads/2024/01/lauantaina-6.4.-klo-10-12-7.png
END:VEVENT
END:VCALENDAR